BEGIN:VCALENDAR
VERSION:2.0
PRODID:spatie/icalendar-generator
NAME:Dreams Never End - April 2026
X-WR-CALNAME:Dreams Never End - April 2026
BEGIN:VTIMEZONE
TZID:America/Chicago
BEGIN:STANDARD
DTSTART:20251102T020000
TZOFFSETFROM:-0500
TZOFFSETTO:-0600
END:STANDARD
BEGIN:DAYLIGHT
DTSTART:20260308T020000
TZOFFSETFROM:-0600
TZOFFSETTO:-0500
END:DAYLIGHT
END:VTIMEZONE
BEGIN:VTIMEZONE
TZID:UTC
BEGIN:STANDARD
DTSTART:20250726T144708
TZOFFSETFROM:+0000
TZOFFSETTO:+0000
END:STANDARD
END:VTIMEZONE
BEGIN:VEVENT
UID:69e8df6c53e09
DTSTAMP:20260422T144708Z
SUMMARY:Dreams Never End - April 2026
DESCRIPTION:Dreams Never End! We’re hosting a fundraiser for the&nbsp\;Al
 zheimer’s Association! Join us for a night of 80s and Synthwave to end A
 lzheimer’s forever. All proceeds go to the Arkansas Chapter of the Alzhe
 imer’s Association.\nFeaturing:\n• Oz Underground\n• DJ Death Mistre
 ss\n• DJ Hollow\n• ChakiDreams never end!\n\nPowered by calget.com
LOCATION:Backroom Social Club
DTSTART;TZID=America/Chicago:20260425T200000
DTEND;TZID=America/Chicago:20260426T020000
X-ALT-DESC;FMTTYPE=text/html:<p>Dreams Never End! We’re hosting a fundrai
 ser for the&nbsp\;<a href=\"https://www.alz.org/\" rel=\"noopener noreferr
 er\" target=\"_blank\" style=\"color: rgb(189\, 4\, 137)\; background-colo
 r: transparent\;\"><strong>Alzheimer’s Association</strong></a>! Join us
  for a night of 80s and Synthwave to end Alzheimer’s forever. All procee
 ds go to the Arkansas Chapter of the Alzheimer’s Association.</p><p>Feat
 uring:</p><ul><li>Oz Underground</li><li>DJ Death Mistress</li><li>DJ Holl
 ow</li><li>Chaki</li></ul><p>Dreams never end!</p><br><br>Powered by <a hr
 ef=\"https://calget.com\">calget.com</a>
END:VEVENT
END:VCALENDAR