BEGIN:VCALENDAR
VERSION:2.0
PRODID:spatie/icalendar-generator
NAME:Webbinar: Så deklarerar du NE-bilagan
X-WR-CALNAME:Webbinar: Så deklarerar du NE-bilagan
BEGIN:VTIMEZONE
TZID:Europe/Stockholm
BEGIN:STANDARD
DTSTART:20251026T030000
TZOFFSETFROM:+0200
TZOFFSETTO:+0100
END:STANDARD
BEGIN:DAYLIGHT
DTSTART:20260329T020000
TZOFFSETFROM:+0100
TZOFFSETTO:+0200
END:DAYLIGHT
END:VTIMEZONE
BEGIN:VTIMEZONE
TZID:UTC
BEGIN:STANDARD
DTSTART:20250726T102204
TZOFFSETFROM:+0000
TZOFFSETTO:+0000
END:STANDARD
END:VTIMEZONE
BEGIN:VEVENT
UID:69e8a14c915be
DTSTAMP:20260422T102204Z
SUMMARY:Webbinar: Så deklarerar du NE-bilagan
DESCRIPTION:Med kopplingen till Årsredovisning Online blir det busenkelt a
 tt deklarera NE-bilagan. Vi går igenom alla delar av flödet - från star
 t till en helt färdig blankett redo att lämnas in.\n\nI webbinaret får 
 du lära dig:\n• Hur du fyller i NE-bilagan korrekt\n• Vanliga misstag
  att undvika när du fyller i NE-bilagan
LOCATION:meet.google.com/bde-qpyo-pto
DTSTART;TZID=Europe/Stockholm:20260319T001500
DTEND;TZID=Europe/Stockholm:20260319T130000
X-ALT-DESC;FMTTYPE=text/html:<p>Med kopplingen till Årsredovisning Online 
 blir det busenkelt att deklarera NE-bilagan. Vi går igenom alla delar av 
 flödet - från start till en helt färdig blankett redo att lämnas in.</
 p><p><br></p><p><strong>I webbinaret får du lära dig:</strong></p><ul><l
 i>Hur du fyller i NE-bilagan korrekt</li><li>Vanliga misstag att undvika n
 är du fyller i NE-bilagan</li></ul><p><br></p>
END:VEVENT
END:VCALENDAR