BEGIN:VCALENDAR
VERSION:2.0
PRODID:spatie/icalendar-generator
NAME:Marias födelsedagsdrink
X-WR-CALNAME:Marias födelsedagsdrink
BEGIN:VTIMEZONE
TZID:Europe/Stockholm
BEGIN:STANDARD
DTSTART:20251026T030000
TZOFFSETFROM:+0200
TZOFFSETTO:+0100
END:STANDARD
BEGIN:DAYLIGHT
DTSTART:20260329T020000
TZOFFSETFROM:+0100
TZOFFSETTO:+0200
END:DAYLIGHT
END:VTIMEZONE
BEGIN:VTIMEZONE
TZID:UTC
BEGIN:STANDARD
DTSTART:20250727T104304
TZOFFSETFROM:+0000
TZOFFSETTO:+0000
END:STANDARD
END:VTIMEZONE
BEGIN:VEVENT
UID:69e9f7b898043
DTSTAMP:20260423T104304Z
SUMMARY:Marias födelsedagsdrink
DESCRIPTION:Varmt välkommen att fira mig och ta en drink den 18 februari k
 l 16—19 på Konstakademien\, Jakobsgatan 27C\, 4 tr.\n/Maria\n\nPowered 
 by calget.com
LOCATION:Konstakademien\, Jakobsgatan 27C\, 4 tr
DTSTART;TZID=Europe/Stockholm:20260218T160000
DTEND;TZID=Europe/Stockholm:20260218T190000
X-ALT-DESC;FMTTYPE=text/html:<p>Varmt välkommen att fira mig och ta en dri
 nk den 18 februari kl 16—19 på Konstakademien\, Jakobsgatan 27C\, 4 tr.
 </p><p>/Maria</p><br><br>Powered by <a href=\"https://calget.com\">calget.
 com</a>
END:VEVENT
END:VCALENDAR