BEGIN:VCALENDAR
VERSION:2.0
PRODID:spatie/icalendar-generator
NAME:Mobildev İş Birliği Günleri
X-WR-CALNAME:Mobildev İş Birliği Günleri
BEGIN:VTIMEZONE
TZID:Europe/Istanbul
BEGIN:STANDARD
DTSTART:20250802T190000
TZOFFSETFROM:+0300
TZOFFSETTO:+0300
END:STANDARD
END:VTIMEZONE
BEGIN:VTIMEZONE
TZID:UTC
BEGIN:STANDARD
DTSTART:20250725T082241
TZOFFSETFROM:+0000
TZOFFSETTO:+0000
END:STANDARD
END:VTIMEZONE
BEGIN:VEVENT
UID:69e733d154235
DTSTAMP:20260421T082241Z
SUMMARY:Mobildev İş Birliği Günleri
DESCRIPTION:Bu etkinlikte Mobildev’in geniş iş ortaklığı ağına kat
 ılarak iş modelinizi güçlendirme\, gelirlerinizi artırma ve sektörde
  fark yaratma fırsatı yakalayacaksınız. Yenilikçi çözümlerle rekab
 et gücünüzü destekleyecek ve işinizi geleceğe taşıyacak stratejile
 rle tanışacaksınız.\n\nPowered by calget.com
LOCATION:CoZone https://maps.app.goo.gl/PThKEXh3Zbu6G9n68
DTSTART;TZID=Europe/Istanbul:20260429T190000
DTEND;TZID=Europe/Istanbul:20260429T210000
X-ALT-DESC;FMTTYPE=text/html:<p>Bu etkinlikte Mobildev’in geniş iş orta
 klığı ağına katılarak iş modelinizi güçlendirme\, gelirlerinizi a
 rtırma ve sektörde fark yaratma fırsatı yakalayacaksınız. Yenilikçi
  çözümlerle rekabet gücünüzü destekleyecek ve işinizi geleceğe ta
 şıyacak stratejilerle tanışacaksınız.</p><br><br>Powered by <a href=
 \"https://calget.com\">calget.com</a>
END:VEVENT
END:VCALENDAR