BEGIN:VCALENDAR
VERSION:2.0
PRODID:spatie/icalendar-generator
NAME:Live Trading - Bartosz Rohde (Środa)
X-WR-CALNAME:Live Trading - Bartosz Rohde (Środa)
BEGIN:VTIMEZONE
TZID:Europe/Warsaw
BEGIN:STANDARD
DTSTART:20251026T030000
TZOFFSETFROM:+0200
TZOFFSETTO:+0100
END:STANDARD
BEGIN:DAYLIGHT
DTSTART:20260329T020000
TZOFFSETFROM:+0100
TZOFFSETTO:+0200
END:DAYLIGHT
END:VTIMEZONE
BEGIN:VTIMEZONE
TZID:UTC
BEGIN:STANDARD
DTSTART:20250725T081808
TZOFFSETFROM:+0000
TZOFFSETTO:+0000
END:STANDARD
END:VTIMEZONE
BEGIN:VEVENT
UID:69e732c0b7b53
DTSTAMP:20260421T081808Z
SUMMARY:Live Trading - Bartosz Rohde (Środa)
DESCRIPTION:London Session | Smart Money &amp\; Market Liquidity
LOCATION:https://youtube.com/live/MXgyQO69 _ Us?feature=share
RRULE:FREQ=WEEKLY;BYDAY=WE
DTSTART;TZID=Europe/Warsaw:20260204T090000
DTEND;TZID=Europe/Warsaw:20260204T100000
X-ALT-DESC;FMTTYPE=text/html:<p>London Session | Smart Money &amp\; Market 
 Liquidity</p>
END:VEVENT
END:VCALENDAR