BEGIN:VCALENDAR
VERSION:2.0
PRODID:spatie/icalendar-generator
NAME:21 Días de Oración
X-WR-CALNAME:21 Días de Oración
BEGIN:VTIMEZONE
TZID:America/Chicago
BEGIN:STANDARD
DTSTART:20251102T020000
TZOFFSETFROM:-0500
TZOFFSETTO:-0600
END:STANDARD
BEGIN:DAYLIGHT
DTSTART:20260308T020000
TZOFFSETFROM:-0600
TZOFFSETTO:-0500
END:DAYLIGHT
END:VTIMEZONE
BEGIN:VTIMEZONE
TZID:UTC
BEGIN:STANDARD
DTSTART:20250728T114058
TZOFFSETFROM:+0000
TZOFFSETTO:+0000
END:STANDARD
END:VTIMEZONE
BEGIN:VEVENT
UID:69eb56ca683ba
DTSTAMP:20260424T114058Z
SUMMARY:21 Días de Oración
DESCRIPTION:Cada lunes\, martes\, jueves y sábado nos vemos por Google Mee
 t a las 5 a.m. para nuestros 21 Días de Oración.\n\nLink: [https://meet.
 google.com/oou-rqak-gkm] https://meet.google.com/oou-rqak-gkm\n\nPowered b
 y calget.com
LOCATION:https://meet.google.com/oou-rqak-gkm
RRULE:FREQ=WEEKLY;BYDAY=MO,TU,TH,SA;UNTIL=20260121
DTSTART;TZID=America/Chicago:20260103T050000
DTEND;TZID=America/Chicago:20260103T060000
X-ALT-DESC;FMTTYPE=text/html:<p>Cada lunes\, martes\, jueves y sábado nos 
 vemos por Google Meet a las 5 a.m. para nuestros 21 Días de Oración.</p>
 <p><br></p><p>Link: <a href=\"https://meet.google.com/oou-rqak-gkm\" rel=\
 "noopener noreferrer\" target=\"_blank\">https://meet.google.com/oou-rqak-
 gkm</a></p><br><br>Powered by <a href=\"https://calget.com\">calget.com</a
 >
END:VEVENT
END:VCALENDAR