BEGIN:VCALENDAR
VERSION:2.0
PRODID:spatie/icalendar-generator
NAME:Open House | 158 Dustin Ln.\, Rockport\, TX 78382
X-WR-CALNAME:Open House | 158 Dustin Ln.\, Rockport\, TX 78382
BEGIN:VTIMEZONE
TZID:America/Chicago
BEGIN:DAYLIGHT
DTSTART:20250309T020000
TZOFFSETFROM:-0600
TZOFFSETTO:-0500
END:DAYLIGHT
BEGIN:STANDARD
DTSTART:20251102T020000
TZOFFSETFROM:-0500
TZOFFSETTO:-0600
END:STANDARD
BEGIN:DAYLIGHT
DTSTART:20260308T020000
TZOFFSETFROM:-0600
TZOFFSETTO:-0500
END:DAYLIGHT
END:VTIMEZONE
BEGIN:VTIMEZONE
TZID:UTC
BEGIN:STANDARD
DTSTART:20250729T175042
TZOFFSETFROM:+0000
TZOFFSETTO:+0000
END:STANDARD
END:VTIMEZONE
BEGIN:VEVENT
UID:69ecfef231c2d
DTSTAMP:20260425T175042Z
SUMMARY:Open House | 158 Dustin Ln.\, Rockport\, TX 78382
DESCRIPTION:Open House at 158 Dustin Ln.\, Rockport\, TX 78382.\n\nCome tou
 r this beautiful 3-bedroom\, 2.5-bathroom\, home with approximately 2\,441
  square feet of living space. This absolutely charming dome-style home on 
 over 3.5 acres with a pond\, mature landscaping\, 2 pastures\, and a garde
 n area has plenty of space to enjoy the peaceful Rockport lifestyle.\n\nDo
 n’t miss your chance to explore this opportunity in the Rockport real es
 tate market. Stop by\, ask questions\, and picture yourself living the coa
 stal lifestyle.\n\nListed and hosted by Neli &amp\; David Spurrell – Spe
 ars &amp\; Co. Real Estate\n\nDirections: https://maps.app.goo.gl/C4AHMdzC
 89m9ERnH6\n\nLearn More: https://search.nelispurrellrealtor.com/idx/detail
 s/listing/b523/148792/158-Dustin-Ln-Rockport-TX\n\nPowered by calget.com
LOCATION:158 Dustin Ln.\, Rockport\, TX 78382
DTSTART;TZID=America/Chicago:20251011T120000
DTEND;TZID=America/Chicago:20251011T140000
X-ALT-DESC;FMTTYPE=text/html:<p>Open House at 158 Dustin Ln.\, Rockport\, T
 X 78382.</p><p><br></p><p>Come tour this beautiful 3-bedroom\, 2.5-bathroo
 m\, home with approximately 2\,441 square feet of living space. This absol
 utely charming dome-style home on over 3.5 acres with a pond\, mature land
 scaping\, 2 pastures\, and a garden area has plenty of space to enjoy the 
 peaceful Rockport lifestyle.</p><p><br></p><p>Don’t miss your chance to 
 explore this opportunity in the Rockport real estate market. Stop by\, ask
  questions\, and picture yourself living the coastal lifestyle.</p><p><br>
 </p><p>Listed and hosted by Neli &amp\; David Spurrell – Spears &amp\; C
 o. Real Estate</p><p><br></p><p>Directions: https://maps.app.goo.gl/C4AHMd
 zC89m9ERnH6</p><p><br></p><p>Learn More: https://search.nelispurrellrealto
 r.com/idx/details/listing/b523/148792/158-Dustin-Ln-Rockport-TX</p><br><br
 >Powered by <a href=\"https://calget.com\">calget.com</a>
END:VEVENT
END:VCALENDAR