BEGIN:VCALENDAR
VERSION:2.0
PRODID:spatie/icalendar-generator
NAME:Megan & Benji Wedding in Duluth
X-WR-CALNAME:Megan & Benji Wedding in Duluth
BEGIN:VTIMEZONE
TZID:UTC
BEGIN:STANDARD
DTSTART:20250725T082439
TZOFFSETFROM:+0000
TZOFFSETTO:+0000
END:STANDARD
END:VTIMEZONE
BEGIN:VEVENT
UID:69e73447d6d64
DTSTAMP:20260421T082439Z
SUMMARY:Megan & Benji Wedding in Duluth
DESCRIPTION:Save This Date!\n\nMegan Lisner and Benji Wedel will be getting
  married in Duluth\, Minnesota!\n\nWe are going to celebrate!!\n\nPowered 
 by calget.com
LOCATION:Park Point Beach House\, Duluth\, Minnesota
X-MICROSOFT-CDO-ALLDAYEVENT:TRUE
DTSTART;VALUE=DATE:20260828
DTEND;VALUE=DATE:20260828
X-ALT-DESC;FMTTYPE=text/html:<p>Save This Date!</p><p><br></p><p>Megan Lisn
 er and Benji Wedel will be getting married in Duluth\, Minnesota!</p><p><b
 r></p><p>We are going to celebrate!!</p><br><br>Powered by <a href=\"https
 ://calget.com\">calget.com</a>
END:VEVENT
END:VCALENDAR