BEGIN:VCALENDAR
VERSION:2.0
PRODID:spatie/icalendar-generator
NAME:Βιβλιοπαρουσίαση «Κάτι να σου πω»
X-WR-CALNAME:Βιβλιοπαρουσίαση «Κάτι να σου πω»
BEGIN:VTIMEZONE
TZID:Europe/Athens
BEGIN:DAYLIGHT
DTSTART:20250330T030000
TZOFFSETFROM:+0200
TZOFFSETTO:+0300
END:DAYLIGHT
BEGIN:STANDARD
DTSTART:20251026T040000
TZOFFSETFROM:+0300
TZOFFSETTO:+0200
END:STANDARD
BEGIN:DAYLIGHT
DTSTART:20260329T030000
TZOFFSETFROM:+0200
TZOFFSETTO:+0300
END:DAYLIGHT
END:VTIMEZONE
BEGIN:VTIMEZONE
TZID:UTC
BEGIN:STANDARD
DTSTART:20250729T150258
TZOFFSETFROM:+0000
TZOFFSETTO:+0000
END:STANDARD
END:VTIMEZONE
BEGIN:VEVENT
UID:69ecd7a2bbb4a
DTSTAMP:20260425T150258Z
SUMMARY:Βιβλιοπαρουσίαση «Κάτι να σου πω»
DESCRIPTION:Οι Εκδόσεις Πηγή και η συγγραφέας 
 Δανάη Κουκουλομμάτη σας προσκαλούν στην
  παρουσίαση του νέου της βιβλίου\, με τίτ
 λο «Κάτι να σου πω» στο Όμικρον 2.Για το β
 ιβλίο θα μιλήσουν\, εκτός από τη συγγραφέ
 α\, οι:Δρ. Ηρακλής Μουρίκης (ψυχίατρος)Κρυ
 σταλία Πατούλη (δημοσιογράφος)Μαίρη Χήν
 αρη (ηθοποιός)Η παρουσία σας θα είναι τιμ
 ή μας.\n\n\n\nPowered by calget.com
LOCATION:Voutadon 42\, Athina 118 54
DTSTART;TZID=Europe/Athens:20251023T190000
DTEND;TZID=Europe/Athens:20251023T210000
X-ALT-DESC;FMTTYPE=text/html:<p class=\"ql-align-justify\"><span style=\"ba
 ckground-color: transparent\;\">Οι Εκδόσεις Πηγή και η 
 συγγραφέας Δανάη Κουκουλομμάτη σας προσ
 καλούν στην παρουσίαση του νέου της βιβλ
 ίου\, με τίτλο «Κάτι να σου πω» στο Όμικρο
 ν 2.</span></p><p class=\"ql-align-justify\"><br></p><p class=\"ql-align-
 justify\"><span style=\"background-color: transparent\;\">Για το βι
 βλίο θα μιλήσουν\, εκτός από τη συγγραφέα
 \, οι:</span></p><p class=\"ql-align-justify\"><span style=\"background-
 color: transparent\;\">Δρ. Ηρακλής Μουρίκης (ψυχίατ
 ρος)</span></p><p class=\"ql-align-justify\"><span style=\"background-c
 olor: transparent\;\">Κρυσταλία Πατούλη (δημοσιογ
 ράφος)</span></p><p class=\"ql-align-justify\"><span style=\"backgrou
 nd-color: transparent\;\">Μαίρη Χήναρη (ηθοποιός)</span
 ></p><p class=\"ql-align-justify\"><br></p><p class=\"ql-align-justify\"><
 span style=\"background-color: transparent\;\">Η παρουσία σας 
 θα είναι τιμή μας.</span></p><p><br></p><p><br></p><br><br>P
 owered by <a href=\"https://calget.com\">calget.com</a>
END:VEVENT
END:VCALENDAR