BEGIN:VCALENDAR
VERSION:2.0
PRODID:spatie/icalendar-generator
NAME: Webbinar: Bokslutstips för enskild firma - expertens bästa tips
X-WR-CALNAME: Webbinar: Bokslutstips för enskild firma - expertens bästa 
 tips
BEGIN:VTIMEZONE
TZID:Europe/Stockholm
BEGIN:STANDARD
DTSTART:20251026T030000
TZOFFSETFROM:+0200
TZOFFSETTO:+0100
END:STANDARD
BEGIN:DAYLIGHT
DTSTART:20260329T020000
TZOFFSETFROM:+0100
TZOFFSETTO:+0200
END:DAYLIGHT
END:VTIMEZONE
BEGIN:VTIMEZONE
TZID:UTC
BEGIN:STANDARD
DTSTART:20250726T095203
TZOFFSETFROM:+0000
TZOFFSETTO:+0000
END:STANDARD
END:VTIMEZONE
BEGIN:VEVENT
UID:69e89a435e51f
DTSTAMP:20260422T095203Z
SUMMARY: Webbinar: Bokslutstips för enskild firma - expertens bästa tips
DESCRIPTION:Våren är här och det innebär att deklarationstiderna närma
 r sig. Vi har tagit hjälp av Eva från Deskjockeys för att pedagogiskt g
 å igenom vad du ska tänka när du gör bokslut!\n\nI webbinaret får du 
 lära dig:\n• Hur du stämmer av bokföringen\n• Tips för att avsluta
  året\n• Hur du undviker vanliga misstag
LOCATION:meet.google.com/kya-qkvx-vaz
DTSTART;TZID=Europe/Stockholm:20260317T110000
DTEND;TZID=Europe/Stockholm:20260317T120000
X-ALT-DESC;FMTTYPE=text/html:<p>Våren är här och det innebär att deklar
 ationstiderna närmar sig. Vi har tagit hjälp av Eva från Deskjockeys f
 ör att pedagogiskt gå igenom vad du ska tänka när du gör bokslut!</p>
 <p><br></p><p><strong>I webbinaret får du lära dig:</strong></p><ul><li>
 Hur du stämmer av bokföringen</li><li>Tips för att avsluta året</li><l
 i>Hur du undviker vanliga misstag</li></ul><p><br></p>
END:VEVENT
END:VCALENDAR