BEGIN:VCALENDAR
VERSION:2.0
PRODID:spatie/icalendar-generator
NAME:Gloom Room - May 2026
X-WR-CALNAME:Gloom Room - May 2026
BEGIN:VTIMEZONE
TZID:America/Chicago
BEGIN:STANDARD
DTSTART:20251102T020000
TZOFFSETFROM:-0500
TZOFFSETTO:-0600
END:STANDARD
BEGIN:DAYLIGHT
DTSTART:20260308T020000
TZOFFSETFROM:-0600
TZOFFSETTO:-0500
END:DAYLIGHT
BEGIN:STANDARD
DTSTART:20261101T020000
TZOFFSETFROM:-0500
TZOFFSETTO:-0600
END:STANDARD
END:VTIMEZONE
BEGIN:VTIMEZONE
TZID:UTC
BEGIN:STANDARD
DTSTART:20250727T143721
TZOFFSETFROM:+0000
TZOFFSETTO:+0000
END:STANDARD
END:VTIMEZONE
BEGIN:VEVENT
UID:69ea2ea17e742
DTSTAMP:20260423T143721Z
SUMMARY:Gloom Room - May 2026
DESCRIPTION:Even the flowers are ugly...\nIt's the May Gloom Room at Backro
 om! Come dance to some hard-hitting beats and goth classics with:\n• Afi
 staface\n• DJ Hollow\n• DJ Death Mistress\n• Lauren Ipsum B2B Xinsta
 r\n\n\nPowered by calget.com
LOCATION:Backroom Social Club
DTSTART;TZID=America/Chicago:20260523T200000
DTEND;TZID=America/Chicago:20260524T020000
X-ALT-DESC;FMTTYPE=text/html:<p><em>Even the flowers are ugly...</em></p><p
 >It's the May Gloom Room at Backroom! Come dance to some hard-hitting beat
 s and goth classics with:</p><ul><li><p>Afistaface</p></li><li><p>DJ Hollo
 w</p></li><li><p>DJ Death Mistress</p></li><li><p>Lauren Ipsum B2B Xinstar
 </p></li></ul><p></p><br><br>Powered by <a href=\"https://calget.com\">cal
 get.com</a>
END:VEVENT
END:VCALENDAR