BEGIN:VCALENDAR
VERSION:2.0
PRODID:spatie/icalendar-generator
NAME:Open House | 104 Windcrest Ln.\, Rockport\, TX 78382
X-WR-CALNAME:Open House | 104 Windcrest Ln.\, Rockport\, TX 78382
BEGIN:VTIMEZONE
TZID:America/Chicago
BEGIN:DAYLIGHT
DTSTART:20250309T020000
TZOFFSETFROM:-0600
TZOFFSETTO:-0500
END:DAYLIGHT
BEGIN:STANDARD
DTSTART:20251102T020000
TZOFFSETFROM:-0500
TZOFFSETTO:-0600
END:STANDARD
BEGIN:DAYLIGHT
DTSTART:20260308T020000
TZOFFSETFROM:-0600
TZOFFSETTO:-0500
END:DAYLIGHT
END:VTIMEZONE
BEGIN:VTIMEZONE
TZID:UTC
BEGIN:STANDARD
DTSTART:20250729T175651
TZOFFSETFROM:+0000
TZOFFSETTO:+0000
END:STANDARD
END:VTIMEZONE
BEGIN:VEVENT
UID:69ed006341519
DTSTAMP:20260425T175651Z
SUMMARY:Open House | 104 Windcrest Ln.\, Rockport\, TX 78382
DESCRIPTION:Open House at 104 Windcrest Ln.\, Rockport\, TX 78382\n\nCome t
 our this beautiful 3-bedroom\, 4-bathroom\, home with approximately 2\,826
  square feet of living space. This new custom home on a quiet cul-de-sac a
 cross from Copano Bay has a 3-car garage with EV charger and is filled wit
 h thoughtful upgrades and modern elegance.\n\nDon’t miss your chance to 
 explore this opportunity in the Rockport real estate market. Stop by\, ask
  questions\, and picture yourself living the coastal lifestyle.\n\nListed 
 and hosted by Neli &amp\; David Spurrell – Spears &amp\; Co. Real Estate
 \n\nDirections: https://maps.app.goo.gl/hTM8zUeGqP7MTY4F6\n\nLearn More: h
 ttps://search.nelispurrellrealtor.com/idx/details/listing/b523/148819/104-
 Windcrest-Ln-Rockport-TX\n\n\nPowered by calget.com
LOCATION:104 Windcrest Ln.\, Rockport\, TX 78382
DTSTART;TZID=America/Chicago:20251011T120000
DTEND;TZID=America/Chicago:20251011T140000
X-ALT-DESC;FMTTYPE=text/html:<p>Open House at 104 Windcrest Ln.\, Rockport\
 , TX 78382</p><p><br></p><p>Come tour this beautiful 3-bedroom\, 4-bathroo
 m\, home with approximately 2\,826 square feet of living space. This new c
 ustom home on a quiet cul-de-sac across from Copano Bay has a 3-car garage
  with EV charger and is filled with thoughtful upgrades and modern eleganc
 e.</p><p><br></p><p>Don’t miss your chance to explore this opportunity i
 n the Rockport real estate market. Stop by\, ask questions\, and picture y
 ourself living the coastal lifestyle.</p><p><br></p><p>Listed and hosted b
 y Neli &amp\; David Spurrell – Spears &amp\; Co. Real Estate</p><p><br><
 /p><p>Directions: https://maps.app.goo.gl/hTM8zUeGqP7MTY4F6</p><p><br></p>
 <p>Learn More: https://search.nelispurrellrealtor.com/idx/details/listing/
 b523/148819/104-Windcrest-Ln-Rockport-TX</p><p><br></p><br><br>Powered by 
 <a href=\"https://calget.com\">calget.com</a>
END:VEVENT
END:VCALENDAR