BEGIN:VCALENDAR
VERSION:2.0
PRODID:spatie/icalendar-generator
NAME:Open House · 1931 N. Fulton Beach Road\, Rockport\, TX
X-WR-CALNAME:Open House · 1931 N. Fulton Beach Road\, Rockport\, TX
BEGIN:VTIMEZONE
TZID:America/Chicago
BEGIN:STANDARD
DTSTART:20251102T020000
TZOFFSETFROM:-0500
TZOFFSETTO:-0600
END:STANDARD
BEGIN:DAYLIGHT
DTSTART:20260308T020000
TZOFFSETFROM:-0600
TZOFFSETTO:-0500
END:DAYLIGHT
END:VTIMEZONE
BEGIN:VTIMEZONE
TZID:UTC
BEGIN:STANDARD
DTSTART:20250725T095504
TZOFFSETFROM:+0000
TZOFFSETTO:+0000
END:STANDARD
END:VTIMEZONE
BEGIN:VEVENT
UID:69e7497830778
DTSTAMP:20260421T095504Z
SUMMARY:Open House · 1931 N. Fulton Beach Road\, Rockport\, TX
DESCRIPTION:Experience refined coastal living at this exceptional 1-acre wa
 terfront estate\, where panoramic Aransas Bay views and timeless elegance 
 define every detail.\n• Bedrooms: 6\n• Bathrooms: 6\n• Sq Ft: 3\,948
 \n• Acreage: 1.05 in Live Oak Point\n• Offered at $1\,485\,000Hosted b
 y Neli Spurrell\, Realtor®\nListed by Alissa Spears\n[DIRECTIONS] https:/
 /maps.app.goo.gl/Y6dR3RtfqtdGmUhQ7\n[LEARN MORE] https://search.nelispurre
 llrealtor.com/idx/details/listing/c203/472195/1931-N-Fulton-Beach-Road-Roc
 kport-TX-78382\n\nPowered by calget.com
LOCATION:1931 N. Fulton Beach Road\, Rockport\, TX
DTSTART;TZID=America/Chicago:20260308T120000
DTEND;TZID=America/Chicago:20260308T133000
X-ALT-DESC;FMTTYPE=text/html:<p>Experience refined coastal living at this e
 xceptional 1-acre waterfront estate\, where panoramic Aransas Bay views an
 d timeless elegance define every detail.</p><ul><li>Bedrooms: 6</li><li>Ba
 throoms: 6</li><li>Sq Ft: 3\,948</li><li>Acreage: 1.05 in Live Oak Point</
 li><li>Offered at $1\,485\,000</li></ul><p>Hosted by Neli Spurrell\, Realt
 or®</p><p>Listed by Alissa Spears</p><p><a href=\"https://maps.app.goo.gl
 /Y6dR3RtfqtdGmUhQ7\" rel=\"noopener noreferrer\" target=\"_blank\">DIRECTI
 ONS</a></p><p><a href=\"https://search.nelispurrellrealtor.com/idx/details
 /listing/c203/472195/1931-N-Fulton-Beach-Road-Rockport-TX-78382\" rel=\"no
 opener noreferrer\" target=\"_blank\">LEARN MORE</a></p><br><br>Powered by
  <a href=\"https://calget.com\">calget.com</a>
END:VEVENT
END:VCALENDAR